BEGIN:VCALENDAR
VERSION:2.0
PRODID:-//technik@updae.ch//NONSGML//EN
X-WR-CALNAME:verbands.net Kalender
CALSCALE:GREGORIAN
BEGIN:VEVENT
UID:1973
DTSTART:20181120T080000Z
DTEND:20181124T160000Z
DTSTAMP:20181120T080000Z
CREATED:20180911T065751Z
LAST-MODIFIED:20180911T070420Z
SUMMARY:Berufsmesse Zürich 2018
DESCRIPTION:Lernende und Fachleute gewähren einen Einblick in rund 110 Berufe. Diverse Privatschulen informieren über Weiterbildungsmöglichkeiten.
LOCATION:Messezentrum Zürich
URL:https://gewerbezuerich.ch/kalender/2018/berufsmesse-zuerich-2018/
SEQUENCE:0
STATUS:CONFIRMED
TRANSP:OPAQUE
END:VEVENT
END:VCALENDAR