BEGIN:VCALENDAR
VERSION:2.0
PRODID:-//technik@updae.ch//NONSGML//EN
X-WR-CALNAME:verbands.net Kalender
CALSCALE:GREGORIAN
BEGIN:VEVENT
UID:2052
DTSTART:20191021T170000Z
DTEND:20191021T190000Z
DTSTAMP:20191021T170000Z
CREATED:20190207T105217Z
LAST-MODIFIED:20190916T131559Z
SUMMARY:Präsidentenkonferenz 2/2
DESCRIPTION:Die Präsidentinnen und Präsidenten der angeschlossenen Berufsverbände und Gewerbevereinen treffen sich 2019 zu zwei Präsidentenkonferenzen. An den Sitzungen werden gewerberelevante Themen besprochen und Beschlüsse gefasst.
LOCATION:GVZ Geschäftsstelle
URL:https://gewerbezuerich.ch/kalender/2019/praesidentenkonferenz-2-2/
SEQUENCE:0
STATUS:CONFIRMED
TRANSP:OPAQUE
END:VEVENT
END:VCALENDAR