BEGIN:VCALENDAR
VERSION:2.0
PRODID:-//technik@updae.ch//NONSGML//EN
X-WR-CALNAME:verbands.net Kalender
CALSCALE:GREGORIAN
BEGIN:VEVENT
UID:2088
DTSTART:20200907T160000Z
DTEND:20200907T190000Z
DTSTAMP:20200907T160000Z
CREATED:20190603T145708Z
LAST-MODIFIED:20200529T135739Z
SUMMARY:179. Delegiertenversammlung
DESCRIPTION:Die 179. Delegiertenversammlung findet am Montag\, 7. September 2020\, statt.
LOCATION:Marriott Hotel
URL:https://gewerbezuerich.ch/kalender/2020/179-delegiertenversammlung-des-gvz/
SEQUENCE:0
STATUS:CONFIRMED
TRANSP:OPAQUE
END:VEVENT
END:VCALENDAR