BEGIN:VCALENDAR
VERSION:2.0
PRODID:-//technik@updae.ch//NONSGML//EN
X-WR-CALNAME:verbands.net Kalender
CALSCALE:GREGORIAN
BEGIN:VEVENT
UID:2205
DTSTART:20210430T140000Z
DTEND:20210430T190000Z
DTSTAMP:20210430T140000Z
CREATED:20201125T140254Z
LAST-MODIFIED:20201125T142709Z
SUMMARY:Aktionstag 2021
DESCRIPTION:Wir haben uns etwas tolle ausgedacht. Reservieren Sie sich doch bitte bereits jetzt dieses Datum. 

Detaillierte Informationen folgen\, sobald wir wissen\, ob wir den Anlass wegen des Corona-Virus überhaupt durchführen können.
LOCATION:In der ganzen Stadt Zürich
URL:https://gewerbezuerich.ch/kalender/2021/aktionstag-2021/
SEQUENCE:0
STATUS:CONFIRMED
TRANSP:OPAQUE
END:VEVENT
END:VCALENDAR