BEGIN:VCALENDAR
VERSION:2.0
PRODID:-//technik@updae.ch//NONSGML//EN
X-WR-CALNAME:verbands.net Kalender
CALSCALE:GREGORIAN
BEGIN:VEVENT
UID:2204
DTSTART:20210208T180000Z
DTEND:20210208T200000Z
DTSTAMP:20210208T180000Z
CREATED:20201125T135837Z
LAST-MODIFIED:20201125T140010Z
SUMMARY:Präsidentenkonferenz 1/21
DESCRIPTION:Die Präsidentenkonferenz im Februar wird infolge Corona per Zoom-Meeting abgehalten.
LOCATION:Zoom-Meeting
URL:https://gewerbezuerich.ch/kalender/2021/praesidentenkonferenz-1-21/
SEQUENCE:0
STATUS:CONFIRMED
TRANSP:OPAQUE
END:VEVENT
END:VCALENDAR