BEGIN:VCALENDAR
VERSION:2.0
PRODID:-//technik@updae.ch//NONSGML//EN
X-WR-CALNAME:verbands.net Kalender
CALSCALE:GREGORIAN
BEGIN:VEVENT
UID:2290
DTSTART:20220118T170000Z
DTEND:20220118T210000Z
DTSTAMP:20220118T170000Z
CREATED:20210915T125316Z
LAST-MODIFIED:20220111T082020Z
SUMMARY:ABGESAGT: GVZ Neujahrsanlass
DESCRIPTION:Die rasche Ausbreitung der Omikron Variante des Corona Virus und die damit einhergehenden Einschränkungen des BAG\, lassen es leider nicht zu\, einen angemessenen Anlass durchzuführen. Wir bitten um Kenntnisnahme und danken für Ihr Verständnis.
URL:https://gewerbezuerich.ch/kalender/2022/gvz-neujahrsanlass/
SEQUENCE:0
STATUS:CONFIRMED
TRANSP:OPAQUE
END:VEVENT
END:VCALENDAR