BEGIN:VCALENDAR
VERSION:2.0
PRODID:-//technik@updae.ch//NONSGML//EN
X-WR-CALNAME:verbands.net Kalender
CALSCALE:GREGORIAN
BEGIN:VEVENT
UID:2325
DTSTART:20220509T170000Z
DTEND:20220509T190000Z
DTSTAMP:20220509T170000Z
CREATED:20211223T104643Z
LAST-MODIFIED:20211223T104850Z
SUMMARY:Präsidentenkonferenz 2/22
DESCRIPTION:Es ist geplant\, die Sitzung physisch durchzuführen.
URL:https://gewerbezuerich.ch/kalender/2022/praesidentenkonferenz-2-22/
SEQUENCE:0
STATUS:CONFIRMED
TRANSP:OPAQUE
END:VEVENT
END:VCALENDAR