BEGIN:VCALENDAR
VERSION:2.0
PRODID:-//technik@updae.ch//NONSGML//EN
X-WR-CALNAME:verbands.net Kalender
CALSCALE:GREGORIAN
BEGIN:VEVENT
UID:2326
DTSTART:20220829T171500Z
DTEND:20210829T181500Z
DTSTAMP:20220829T171500Z
CREATED:20211223T104947Z
LAST-MODIFIED:20211223T105516Z
SUMMARY:Präsidentenkonferenz 3/22
DESCRIPTION:Die Sitzung findet per Zoom statt.
URL:https://gewerbezuerich.ch/kalender/2022/praesidentenkonferenz-3-22/
SEQUENCE:0
STATUS:CONFIRMED
TRANSP:OPAQUE
END:VEVENT
END:VCALENDAR