BEGIN:VCALENDAR
VERSION:2.0
PRODID:-//technik@updae.ch//NONSGML//EN
X-WR-CALNAME:verbands.net Kalender
CALSCALE:GREGORIAN
BEGIN:VEVENT
UID:2477
DTSTART:20230428T150000Z
DTEND:20230428T160000Z
DTSTAMP:20230428T150000Z
CREATED:20221223T141540Z
LAST-MODIFIED:20230330T090019Z
SUMMARY:Aktion 1. Mai
DESCRIPTION:Wir sagen allen Mitarbeitenden Danke für die geleistete Arbeit und verteilen in Betrieben oder an verschiedenen Plätzen in der Stadt Zürich ein Give-away.
LOCATION:In der ganzen Stadt Zürich.
URL:https://gewerbezuerich.ch/kalender/2023/aktion-1-mai/
SEQUENCE:0
STATUS:CONFIRMED
TRANSP:OPAQUE
END:VEVENT
END:VCALENDAR