BEGIN:VCALENDAR
VERSION:2.0
PRODID:-//technik@updae.ch//NONSGML//EN
X-WR-CALNAME:verbands.net Kalender
CALSCALE:GREGORIAN
BEGIN:VEVENT
UID:2475
DTSTART:20230824T171500Z
DTEND:20230824T184500Z
DTSTAMP:20230824T171500Z
CREATED:20221223T140904Z
LAST-MODIFIED:20221223T141116Z
SUMMARY:Präsidentenkonferenz 3/23
DESCRIPTION:Eingeladen sind alle Präsidien oder deren Vertretung.
LOCATION:Per Zoom
URL:https://gewerbezuerich.ch/kalender/2023/praesidentenkonferenz-3-23/
SEQUENCE:0
STATUS:CONFIRMED
TRANSP:OPAQUE
END:VEVENT
END:VCALENDAR