BEGIN:VCALENDAR
VERSION:2.0
PRODID:-//technik@updae.ch//NONSGML//EN
X-WR-CALNAME:verbands.net Kalender
CALSCALE:GREGORIAN
BEGIN:VEVENT
UID:2516
DTSTART:20240618T160000Z
DTEND:20240618T190000Z
DTSTAMP:20240618T160000Z
CREATED:20230404T134448Z
LAST-MODIFIED:20240426T150931Z
SUMMARY:Delegiertenversammlung 2024
DESCRIPTION:Nach einem interessanten Referat werden die ordentlichen Traktanden behandelt.

Anschliessend Networking und Apéro riche.
LOCATION:Hotel Krone Unterstrass
URL:https://gewerbezuerich.ch/kalender/2024/delegiertenversammlung-2024/
SEQUENCE:0
STATUS:CONFIRMED
TRANSP:OPAQUE
END:VEVENT
END:VCALENDAR