BEGIN:VCALENDAR
VERSION:2.0
PRODID:-//technik@updae.ch//NONSGML//EN
X-WR-CALNAME:verbands.net Kalender
CALSCALE:GREGORIAN
BEGIN:VEVENT
UID:2558
DTSTART:20240318T181500Z
DTEND:20240318T201500Z
DTSTAMP:20240318T181500Z
CREATED:20231221T130919Z
LAST-MODIFIED:20240426T150552Z
SUMMARY:ABGESAGT: Präsidentenkonferenz 1/24
DESCRIPTION:In Absprache mit den Präsidien wurde die PK abgesagt und per Mail über die wichtigsten Neuigkeiten informiert.
LOCATION:GVZ Geschäftsstelle
URL:https://gewerbezuerich.ch/kalender/2024/praesidentenkonferenz-1-24/
SEQUENCE:0
STATUS:CONFIRMED
TRANSP:OPAQUE
END:VEVENT
END:VCALENDAR