BEGIN:VCALENDAR
VERSION:2.0
PRODID:-//technik@updae.ch//NONSGML//EN
X-WR-CALNAME:verbands.net Kalender
CALSCALE:GREGORIAN
BEGIN:VEVENT
UID:2562
DTSTART:20240905T163000Z
DTEND:20240905T190000Z
DTSTAMP:20240905T163000Z
CREATED:20231221T132532Z
LAST-MODIFIED:20231221T133330Z
SUMMARY:Treffen der Vorstände
DESCRIPTION:Die Präsidien und Vorstandsmitglieder erhalten die Einladung zu gegebener Zeit per Mail.
LOCATION:Hasenrainhütte des Gewerbevereins Albisrieden
URL:https://gewerbezuerich.ch/kalender/2024/treffen-der-vorstaende/
SEQUENCE:0
STATUS:CONFIRMED
TRANSP:OPAQUE
END:VEVENT
END:VCALENDAR